BEGIN:VCALENDAR
VERSION:2.0
PRODID:-//Shiftworks Community + Public Arts - ECPv6.15.20//NONSGML v1.0//EN
CALSCALE:GREGORIAN
METHOD:PUBLISH
X-WR-CALNAME:Shiftworks Community + Public Arts
X-ORIGINAL-URL:https://shiftworkspgh.org
X-WR-CALDESC:Events for Shiftworks Community + Public Arts
REFRESH-INTERVAL;VALUE=DURATION:PT1H
X-Robots-Tag:noindex
X-PUBLISHED-TTL:PT1H
BEGIN:VTIMEZONE
TZID:America/New_York
BEGIN:DAYLIGHT
TZOFFSETFROM:-0500
TZOFFSETTO:-0400
TZNAME:EDT
DTSTART:20240310T070000
END:DAYLIGHT
BEGIN:STANDARD
TZOFFSETFROM:-0400
TZOFFSETTO:-0500
TZNAME:EST
DTSTART:20241103T060000
END:STANDARD
BEGIN:DAYLIGHT
TZOFFSETFROM:-0500
TZOFFSETTO:-0400
TZNAME:EDT
DTSTART:20250309T070000
END:DAYLIGHT
BEGIN:STANDARD
TZOFFSETFROM:-0400
TZOFFSETTO:-0500
TZNAME:EST
DTSTART:20251102T060000
END:STANDARD
BEGIN:DAYLIGHT
TZOFFSETFROM:-0500
TZOFFSETTO:-0400
TZNAME:EDT
DTSTART:20260308T070000
END:DAYLIGHT
BEGIN:STANDARD
TZOFFSETFROM:-0400
TZOFFSETTO:-0500
TZNAME:EST
DTSTART:20261101T060000
END:STANDARD
END:VTIMEZONE
BEGIN:VEVENT
DTSTART;TZID=America/New_York:20250213T160000
DTEND;TZID=America/New_York:20250213T173000
DTSTAMP:20260421T073527
CREATED:20250122T221735Z
LAST-MODIFIED:20250128T135902Z
UID:6662-1739462400-1739467800@shiftworkspgh.org
SUMMARY:Winter Intensive: The People are the Poetry: Socially Engaged Writing\, On and Off the Page
DESCRIPTION:Writers with a social practice bring the tools of literary arts off the page and out of the writing studio. Their practices span a wide range of projects and approaches\, from devised theater to public poetry installations to citizen-driven journalism\, and much more. This panel\, made up of award-winning socially engaged writers Adil Mansoor\, Joy Katz\, and Joy Priest will introduce the audience to strategies writers use when crafting socially engaged works. The three panelists\, who work across the genres of fiction\, nonfiction\, poetry\, and playwriting\, will discuss the challenges and joys of their specific\, innovative work both on and off the page. The discussion will be moderated by Sarah Shotland. \nThe moderated discussion will be recorded and shared with participants at a later date. Please allow time for the recording to be sent. Each recording is available for 3 months from the date it was sent. \nRegistration\nRegistration is $15. The button below will redirect you to Eventbrite where you will complete your purchase. \nRegister
URL:https://shiftworkspgh.org/event/winter-intensive-people-poetry/
LOCATION:Zoom Video Conference
CATEGORIES:Training for Artists,Winter Intensive
ATTACH;FMTTYPE=image/jpeg:https://shiftworkspgh.org/wp-content/uploads/2025/01/Shiftworks-Event-Winter-Intensive-Mansoor-Priest-Katz.jpg
ORGANIZER;CN="Shiftworks Community + Public Arts":MAILTO:info@shiftworkspgh.org
END:VEVENT
END:VCALENDAR